BEGIN:VCALENDAR
VERSION:2.0
PRODID:-//Loopgroep Gieten - ECPv6.15.20//NONSGML v1.0//EN
CALSCALE:GREGORIAN
METHOD:PUBLISH
X-WR-CALNAME:Loopgroep Gieten
X-ORIGINAL-URL:https://loopgroepgieten.nl
X-WR-CALDESC:Evenementen voor Loopgroep Gieten
REFRESH-INTERVAL;VALUE=DURATION:PT1H
X-Robots-Tag:noindex
X-PUBLISHED-TTL:PT1H
BEGIN:VTIMEZONE
TZID:Europe/Paris
BEGIN:DAYLIGHT
TZOFFSETFROM:+0100
TZOFFSETTO:+0200
TZNAME:CEST
DTSTART:20240331T010000
END:DAYLIGHT
BEGIN:STANDARD
TZOFFSETFROM:+0200
TZOFFSETTO:+0100
TZNAME:CET
DTSTART:20241027T010000
END:STANDARD
BEGIN:DAYLIGHT
TZOFFSETFROM:+0100
TZOFFSETTO:+0200
TZNAME:CEST
DTSTART:20250330T010000
END:DAYLIGHT
BEGIN:STANDARD
TZOFFSETFROM:+0200
TZOFFSETTO:+0100
TZNAME:CET
DTSTART:20251026T010000
END:STANDARD
BEGIN:DAYLIGHT
TZOFFSETFROM:+0100
TZOFFSETTO:+0200
TZNAME:CEST
DTSTART:20260329T010000
END:DAYLIGHT
BEGIN:STANDARD
TZOFFSETFROM:+0200
TZOFFSETTO:+0100
TZNAME:CET
DTSTART:20261025T010000
END:STANDARD
END:VTIMEZONE
BEGIN:VEVENT
DTSTART;TZID=Europe/Paris:20250712T080000
DTEND;TZID=Europe/Paris:20250712T170000
DTSTAMP:20260421T144858
CREATED:20250309T090937Z
LAST-MODIFIED:20250309T090937Z
UID:1613-1752307200-1752339600@loopgroepgieten.nl
SUMMARY:T Giet Moar Deur
DESCRIPTION:Backyard Ultra Gieten; 13:00 start Wedstrijdlopers\, 14:00 start Funlopers\, 21:00 start Nachtbrakers
URL:https://loopgroepgieten.nl/event/t-giet-moar-deur/
LOCATION:Gieten
CATEGORIES:Activiteit georganiseerd (mede) door Loopgroep Gieten
END:VEVENT
BEGIN:VEVENT
DTSTART;TZID=Europe/Paris:20250719T080000
DTEND;TZID=Europe/Paris:20250719T170000
DTSTAMP:20260421T144858
CREATED:20250309T070829Z
LAST-MODIFIED:20250309T070829Z
UID:1554-1752912000-1752944400@loopgroepgieten.nl
SUMMARY:Kardingebultra
DESCRIPTION:
URL:https://loopgroepgieten.nl/event/kardingebultra/
LOCATION:Groningen
CATEGORIES:Loopjes in de buurt
END:VEVENT
BEGIN:VEVENT
DTSTART;TZID=Europe/Paris:20250719T080000
DTEND;TZID=Europe/Paris:20250719T170000
DTSTAMP:20260421T144858
CREATED:20250309T070937Z
LAST-MODIFIED:20250309T070937Z
UID:1556-1752912000-1752944400@loopgroepgieten.nl
SUMMARY:Midzomeravond Marathon
DESCRIPTION:10\,5 km\, 21\,1 km\, 31\,6 km\, 42\,2 km
URL:https://loopgroepgieten.nl/event/midzomeravond-marathon/
LOCATION:Diever
CATEGORIES:Loopjes in de buurt
END:VEVENT
END:VCALENDAR