BEGIN:VCALENDAR
VERSION:2.0
PRODID:-//Loopgroep Gieten - ECPv6.15.20//NONSGML v1.0//EN
CALSCALE:GREGORIAN
METHOD:PUBLISH
X-WR-CALNAME:Loopgroep Gieten
X-ORIGINAL-URL:https://loopgroepgieten.nl
X-WR-CALDESC:Evenementen voor Loopgroep Gieten
REFRESH-INTERVAL;VALUE=DURATION:PT1H
X-Robots-Tag:noindex
X-PUBLISHED-TTL:PT1H
BEGIN:VTIMEZONE
TZID:Europe/Paris
BEGIN:DAYLIGHT
TZOFFSETFROM:+0100
TZOFFSETTO:+0200
TZNAME:CEST
DTSTART:20240331T010000
END:DAYLIGHT
BEGIN:STANDARD
TZOFFSETFROM:+0200
TZOFFSETTO:+0100
TZNAME:CET
DTSTART:20241027T010000
END:STANDARD
BEGIN:DAYLIGHT
TZOFFSETFROM:+0100
TZOFFSETTO:+0200
TZNAME:CEST
DTSTART:20250330T010000
END:DAYLIGHT
BEGIN:STANDARD
TZOFFSETFROM:+0200
TZOFFSETTO:+0100
TZNAME:CET
DTSTART:20251026T010000
END:STANDARD
BEGIN:DAYLIGHT
TZOFFSETFROM:+0100
TZOFFSETTO:+0200
TZNAME:CEST
DTSTART:20260329T010000
END:DAYLIGHT
BEGIN:STANDARD
TZOFFSETFROM:+0200
TZOFFSETTO:+0100
TZNAME:CET
DTSTART:20261025T010000
END:STANDARD
END:VTIMEZONE
BEGIN:VEVENT
DTSTART;TZID=Europe/Paris:20250101T080000
DTEND;TZID=Europe/Paris:20250101T170000
DTSTAMP:20260422T180404
CREATED:20240202T181650Z
LAST-MODIFIED:20240202T181715Z
UID:1346-1735718400-1735750800@loopgroepgieten.nl
SUMMARY:Nieuwjaarsloop met dip
DESCRIPTION:
URL:https://loopgroepgieten.nl/event/oudejaarsloop-jan/
END:VEVENT
BEGIN:VEVENT
DTSTART;TZID=Europe/Paris:20250112T080000
DTEND;TZID=Europe/Paris:20250112T170000
DTSTAMP:20260422T180404
CREATED:20240823T132553Z
LAST-MODIFIED:20240823T132553Z
UID:1415-1736668800-1736701200@loopgroepgieten.nl
SUMMARY:Gletjserkuil cross - Ees
DESCRIPTION:
URL:https://loopgroepgieten.nl/event/gletjserkuil-cross-ees/
END:VEVENT
BEGIN:VEVENT
DTSTART;TZID=Europe/Paris:20250125T123000
DTEND;TZID=Europe/Paris:20250125T170000
DTSTAMP:20260422T180404
CREATED:20241227T064903Z
LAST-MODIFIED:20241227T064919Z
UID:1441-1737808200-1737824400@loopgroepgieten.nl
SUMMARY:Hondsrugcross Emmen
DESCRIPTION:E.A.C de Sperwers organiseert voor de 49e keer de Hondsrugcross\nEmmen: Op 25 januari 2025 organiseert E.A.C de Sperwers de 49e editie van de\nHondsrugcross. Deze crossloop in het bosgebied van de Emmerdennen is een echte\nklassieker. De Hondsrugcross is een uitdagende crossloop met als scherprechter “het\nHaantjeduin”. De inschrijving is inmiddels geopend. De organisatie wil graag iedereen de\nkans bieden om mee te doen en heeft de inschrijfkosten verlaagd. \nHaantjeduin\nDe Hondsrugrcoss is de eerste belangrijke Drentse crosswedstrijd in het nieuwe jaar. De\nEmmer cross is een van de oudste hardloopevenementen in de provincie Drenthe. Dit\nkroonjuweel in het wedstrijdprogramma van E.A.C de Sperwers trekt elk jaar deelnemers uit\nde wijde regio van Emmen. Het parcours van de Hondsrugcross is geaccidenteerd en heeft\nalle kenmerken van een echte cross. Bospaden\, zand\, modder en het Haantjeduin als de\n“Breaking Hill”. Deze steile heuvel is de blikvanger van de Hondsrugcross. Het Haantjeduin\nzal door de deelnemers aan de lange crossafstanden een aantal keren bedwongen moeten\nworden. Ook voor de niet wedstrijdatleten is de Hondsrugcross een prachtige sportieve\nuitdaging. Er is een programma voor de jeugd\, de senioren\, de masters (40+) en de\ndeelnemers met een verstandelijke beperking. \nProgramma\nOm 12.45 uur klinkt het eerste startschot. De jongste deelnemers t/m 11 jaar en de\ndeelnemers met een verstandelijke beperking lopen een ronde van een kilometer. De jeugd\nin de categorie twaalf t/m zestien jaar kan kiezen uit twee of vier kilometer. Beide afstanden\nzijn uitgezet op een parcours van twee ronden. In het parcours van de vier kilometer is het\nHaantjeduin opgenomen. De recreatieve deelnemers/sters in de categorie senioren en\nmasters (40+) lopen vier kilometer of acht kilometer. De lange cross over acht kilometer is\ntevens de afstand voor de wedstrijdatleten. Er zijn ook hier vier categorieën: dames/heren\nsenioren en dames/heren masters (40+) \nVoorinschrijven met verlaagde inschrijfkosten\nDe organisatie heeft als missie dat de hardloopsport voor iedereen toegankelijk moet zijn en\nheeft daarom de voor-inschrijfkosten met een euro verlaagd. De digitale inschrijvingsmodule\nis te vinden op de website van de organisatie: www.hondsrugcross.nl. Er kan ingeschreven\nworden t/m 23 januari. Op de wedstrijddag zelf kan vanaf 11.30 uur tot twintig minuten voor\naanvang van de wedstrijden nog na ingeschreven worden. Voor na-inschrijving op de\nwedstrijddag is een mobiele telefoon met QR scanner en mobiel bankieren nodig (Ideal). De\nkosten voor na-inschrijving bedragen voor de jeugdafstanden\, twee en een kilometer\, vier\neuro en voor de overige afstanden tien euro.
URL:https://loopgroepgieten.nl/event/hondsrugcross/
END:VEVENT
END:VCALENDAR