BEGIN:VCALENDAR
VERSION:2.0
PRODID:-//Loopgroep Gieten - ECPv6.15.20//NONSGML v1.0//EN
CALSCALE:GREGORIAN
METHOD:PUBLISH
X-ORIGINAL-URL:https://loopgroepgieten.nl
X-WR-CALDESC:Evenementen voor Loopgroep Gieten
REFRESH-INTERVAL;VALUE=DURATION:PT1H
X-Robots-Tag:noindex
X-PUBLISHED-TTL:PT1H
BEGIN:VTIMEZONE
TZID:Europe/Paris
BEGIN:DAYLIGHT
TZOFFSETFROM:+0100
TZOFFSETTO:+0200
TZNAME:CEST
DTSTART:20240331T010000
END:DAYLIGHT
BEGIN:STANDARD
TZOFFSETFROM:+0200
TZOFFSETTO:+0100
TZNAME:CET
DTSTART:20241027T010000
END:STANDARD
BEGIN:DAYLIGHT
TZOFFSETFROM:+0100
TZOFFSETTO:+0200
TZNAME:CEST
DTSTART:20250330T010000
END:DAYLIGHT
BEGIN:STANDARD
TZOFFSETFROM:+0200
TZOFFSETTO:+0100
TZNAME:CET
DTSTART:20251026T010000
END:STANDARD
BEGIN:DAYLIGHT
TZOFFSETFROM:+0100
TZOFFSETTO:+0200
TZNAME:CEST
DTSTART:20260329T010000
END:DAYLIGHT
BEGIN:STANDARD
TZOFFSETFROM:+0200
TZOFFSETTO:+0100
TZNAME:CET
DTSTART:20261025T010000
END:STANDARD
END:VTIMEZONE
BEGIN:VEVENT
DTSTART;TZID=Europe/Paris:20250527T080000
DTEND;TZID=Europe/Paris:20250527T170000
DTSTAMP:20260421T145027
CREATED:20250308T072909Z
LAST-MODIFIED:20250308T072909Z
UID:1537-1748332800-1748365200@loopgroepgieten.nl
SUMMARY:Pallas Ultrameerdaagse
DESCRIPTION:5 routes in regio Zuid-Limburg. Afstanden rond de 52 km\, 1 dag 70+ km
URL:https://loopgroepgieten.nl/event/pallas-ultrameerdaagse/
LOCATION:Heerlen
CATEGORIES:Loopjes waar één van onze leden bij is (door heel NL)
END:VEVENT
END:VCALENDAR