BEGIN:VCALENDAR
VERSION:2.0
PRODID:-//Loopgroep Gieten - ECPv6.15.20//NONSGML v1.0//EN
CALSCALE:GREGORIAN
METHOD:PUBLISH
X-ORIGINAL-URL:https://loopgroepgieten.nl
X-WR-CALDESC:Evenementen voor Loopgroep Gieten
REFRESH-INTERVAL;VALUE=DURATION:PT1H
X-Robots-Tag:noindex
X-PUBLISHED-TTL:PT1H
BEGIN:VTIMEZONE
TZID:Europe/Paris
BEGIN:DAYLIGHT
TZOFFSETFROM:+0100
TZOFFSETTO:+0200
TZNAME:CEST
DTSTART:20240331T010000
END:DAYLIGHT
BEGIN:STANDARD
TZOFFSETFROM:+0200
TZOFFSETTO:+0100
TZNAME:CET
DTSTART:20241027T010000
END:STANDARD
BEGIN:DAYLIGHT
TZOFFSETFROM:+0100
TZOFFSETTO:+0200
TZNAME:CEST
DTSTART:20250330T010000
END:DAYLIGHT
BEGIN:STANDARD
TZOFFSETFROM:+0200
TZOFFSETTO:+0100
TZNAME:CET
DTSTART:20251026T010000
END:STANDARD
BEGIN:DAYLIGHT
TZOFFSETFROM:+0100
TZOFFSETTO:+0200
TZNAME:CEST
DTSTART:20260329T010000
END:DAYLIGHT
BEGIN:STANDARD
TZOFFSETFROM:+0200
TZOFFSETTO:+0100
TZNAME:CET
DTSTART:20261025T010000
END:STANDARD
END:VTIMEZONE
BEGIN:VEVENT
DTSTART;TZID=Europe/Paris:20250330T080000
DTEND;TZID=Europe/Paris:20250330T170000
DTSTAMP:20260422T163724
CREATED:20250307T202545Z
LAST-MODIFIED:20250307T202545Z
UID:1492-1743321600-1743354000@loopgroepgieten.nl
SUMMARY:Marathon 't Roegwold
DESCRIPTION:
URL:https://loopgroepgieten.nl/event/marathon-t-roegwold/
LOCATION:Schildwolde
CATEGORIES:Loopjes in de buurt
END:VEVENT
BEGIN:VEVENT
DTSTART;TZID=Europe/Paris:20250330T080000
DTEND;TZID=Europe/Paris:20250330T170000
DTSTAMP:20260422T163724
CREATED:20250307T202717Z
LAST-MODIFIED:20250307T202717Z
UID:1495-1743321600-1743354000@loopgroepgieten.nl
SUMMARY:Tiedkwietloop
DESCRIPTION:11\,1 km\, 16\,1 km
URL:https://loopgroepgieten.nl/event/tiedkwietloop/
LOCATION:Hoogeveen
CATEGORIES:Loopjes in de buurt
END:VEVENT
END:VCALENDAR