BEGIN:VCALENDAR
VERSION:2.0
PRODID:-//Loopgroep Gieten - ECPv6.15.20//NONSGML v1.0//EN
CALSCALE:GREGORIAN
METHOD:PUBLISH
X-ORIGINAL-URL:https://loopgroepgieten.nl
X-WR-CALDESC:Evenementen voor Loopgroep Gieten
REFRESH-INTERVAL;VALUE=DURATION:PT1H
X-Robots-Tag:noindex
X-PUBLISHED-TTL:PT1H
BEGIN:VTIMEZONE
TZID:Europe/Paris
BEGIN:DAYLIGHT
TZOFFSETFROM:+0100
TZOFFSETTO:+0200
TZNAME:CEST
DTSTART:20240331T010000
END:DAYLIGHT
BEGIN:STANDARD
TZOFFSETFROM:+0200
TZOFFSETTO:+0100
TZNAME:CET
DTSTART:20241027T010000
END:STANDARD
BEGIN:DAYLIGHT
TZOFFSETFROM:+0100
TZOFFSETTO:+0200
TZNAME:CEST
DTSTART:20250330T010000
END:DAYLIGHT
BEGIN:STANDARD
TZOFFSETFROM:+0200
TZOFFSETTO:+0100
TZNAME:CET
DTSTART:20251026T010000
END:STANDARD
BEGIN:DAYLIGHT
TZOFFSETFROM:+0100
TZOFFSETTO:+0200
TZNAME:CEST
DTSTART:20260329T010000
END:DAYLIGHT
BEGIN:STANDARD
TZOFFSETFROM:+0200
TZOFFSETTO:+0100
TZNAME:CET
DTSTART:20261025T010000
END:STANDARD
END:VTIMEZONE
BEGIN:VEVENT
DTSTART;TZID=Europe/Paris:20250315T080000
DTEND;TZID=Europe/Paris:20250315T170000
DTSTAMP:20260422T163844
CREATED:20250307T201943Z
LAST-MODIFIED:20250307T201943Z
UID:1477-1742025600-1742058000@loopgroepgieten.nl
SUMMARY:Vuurtorentrail Ameland
DESCRIPTION:
URL:https://loopgroepgieten.nl/event/vuurtorentrail-ameland/
LOCATION:Ameland
CATEGORIES:Loopjes waar één van onze leden bij is (door heel NL)
END:VEVENT
BEGIN:VEVENT
DTSTART;TZID=Europe/Paris:20250315T080000
DTEND;TZID=Europe/Paris:20250315T170000
DTSTAMP:20260422T163844
CREATED:20250307T202046Z
LAST-MODIFIED:20250307T202046Z
UID:1480-1742025600-1742058000@loopgroepgieten.nl
SUMMARY:Kroeg tot Kroegloop
DESCRIPTION:
URL:https://loopgroepgieten.nl/event/kroeg-tot-kroegloop/
LOCATION:Ruinen
CATEGORIES:Loopjes in de buurt
END:VEVENT
END:VCALENDAR